BEGIN:VCALENDAR
VERSION:2.0
PRODID:-//wp-events-plugin.com//7.1.7//EN
TZID:Europe/Paris
X-WR-TIMEZONE:Europe/Paris
BEGIN:VEVENT
UID:0-385@lecannetdesmaures.com
DTSTART;TZID=Europe/Paris:20250727T193000
DTEND;TZID=Europe/Paris:20250727T233000
DTSTAMP:20250723T154149Z
URL:https://www.lecannetdesmaures.com/evenements/aioli-geant/
SUMMARY:Aïoli géant
DESCRIPTION:Dimanche 27 juillet 2025 à 19h dans le parc Pellegrin\, aïoli
  géant (vin et dessert compris) préparé par les commerçants du centre-
 ville.\nBilletterie : Fournil Cannetois\, Brasserie Chez Olive\, La Presse
 .\nOrganisé par le CACM.\nRenseignements :\n06 34 48 31 77\nTarifs : 22 e
 uros par adulte et 12 euros par enfant.\nCouverts\, verre et assiette à a
 pporter.
ATTACH;FMTTYPE=image/jpeg:https://www.lecannetdesmaures.com/app/uploads/20
 25/06/Sans-titre-1.jpg
CATEGORIES:Agenda
END:VEVENT
BEGIN:VTIMEZONE
TZID:Europe/Paris
X-LIC-LOCATION:Europe/Paris
BEGIN:DAYLIGHT
DTSTART:20250330T030000
TZOFFSETFROM:+0100
TZOFFSETTO:+0200
TZNAME:CEST
END:DAYLIGHT
END:VTIMEZONE
END:VCALENDAR