BEGIN:VCALENDAR
VERSION:2.0
PRODID:-//wp-events-plugin.com//7.1.7//EN
TZID:Europe/Paris
X-WR-TIMEZONE:Europe/Paris
BEGIN:VEVENT
UID:0-449@lecannetdesmaures.com
DTSTART;TZID=Europe/Paris:20251114T183000
DTEND;TZID=Europe/Paris:20251114T200000
DTSTAMP:20251027T111822Z
URL:https://www.lecannetdesmaures.com/evenements/animal-lecteur-8/
SUMMARY:Animal Lecteur
DESCRIPTION:Vendredi 14 novembre 2025\, à 18h30 à la Médiathèque\, une 
 séance du Cercle de Lecteurs de la Médiathèque.\nLecteurs de tous poils
 \, rejoignez le cercle de lecteurs de la médiathèque : sélections aux p
 etits oignons\, ambiance cosy et mise en appétit garantie !\nEntrée Libr
 e.\nInfos :\nTél : 04 94 50 35 20
ATTACH;FMTTYPE=image/jpeg:https://www.lecannetdesmaures.com/app/uploads/20
 25/10/cat-8415620_1280.jpg
CATEGORIES:Agenda
END:VEVENT
BEGIN:VTIMEZONE
TZID:Europe/Paris
X-LIC-LOCATION:Europe/Paris
BEGIN:STANDARD
DTSTART:20251026T020000
TZOFFSETFROM:+0200
TZOFFSETTO:+0100
TZNAME:CET
END:STANDARD
END:VTIMEZONE
END:VCALENDAR