BEGIN:VCALENDAR
VERSION:2.0
PRODID:-//wp-events-plugin.com//7.1.7//EN
TZID:Europe/Paris
X-WR-TIMEZONE:Europe/Paris
BEGIN:VEVENT
UID:0-373@lecannetdesmaures.com
DTSTART;TZID=Europe/Paris:20250607T143000
DTEND;TZID=Europe/Paris:20250607T160000
DTSTAMP:20250605T095526Z
URL:https://www.lecannetdesmaures.com/evenements/atelier-brico-2/
SUMMARY:Atelier Brico "Je suis ton père"
DESCRIPTION:Samedi 7 juin\, rejoignez notre atelier et plongez dans l'unive
 rs épique de Star Wars à 14h30 à la Médiathèque Marcel Migozzi.\nLes 
 petits Padawans auront l'occasion de créer des cartes uniques pour la fê
 te des Pères\, en s'inspirant des personnages et des vaisseaux emblémati
 ques de la saga. Pour un cadeau galactique à offrir à vos super-héros !
  \nRenseignements et inscriptions :\n04 94 50 35 20\n(À partir de 6 ans)
ATTACH;FMTTYPE=image/jpeg:https://www.lecannetdesmaures.com/app/uploads/20
 25/06/atelier-brico.jpg
CATEGORIES:Agenda
END:VEVENT
BEGIN:VTIMEZONE
TZID:Europe/Paris
X-LIC-LOCATION:Europe/Paris
BEGIN:DAYLIGHT
DTSTART:20250330T030000
TZOFFSETFROM:+0100
TZOFFSETTO:+0200
TZNAME:CEST
END:DAYLIGHT
END:VTIMEZONE
END:VCALENDAR