BEGIN:VCALENDAR
VERSION:2.0
PRODID:-//wp-events-plugin.com//7.1.7//EN
TZID:Europe/Paris
X-WR-TIMEZONE:Europe/Paris
BEGIN:VEVENT
UID:0-412@lecannetdesmaures.com
DTSTART;TZID=Europe/Paris:20250920T143000
DTEND;TZID=Europe/Paris:20250920T153000
DTSTAMP:20250815T110216Z
URL:https://www.lecannetdesmaures.com/evenements/atelier-brico-3/
SUMMARY:ATELIER BRICO
DESCRIPTION:Sur inscription – A partir de 7 ans\nRejoignez-nous pour un a
 telier où créativité et sensibilisation à la beauté des fonds marins 
 seront au rendez-vous !\nRenseignements :\nTél. : 04 94 50 35 20
ATTACH;FMTTYPE=image/jpeg:https://www.lecannetdesmaures.com/app/uploads/20
 25/08/Image2.png
CATEGORIES:Agenda
END:VEVENT
BEGIN:VTIMEZONE
TZID:Europe/Paris
X-LIC-LOCATION:Europe/Paris
BEGIN:DAYLIGHT
DTSTART:20250330T030000
TZOFFSETFROM:+0100
TZOFFSETTO:+0200
TZNAME:CEST
END:DAYLIGHT
END:VTIMEZONE
END:VCALENDAR