BEGIN:VCALENDAR
VERSION:2.0
PRODID:-//wp-events-plugin.com//7.1.7//EN
TZID:Europe/Paris
X-WR-TIMEZONE:Europe/Paris
BEGIN:VEVENT
UID:0-422@lecannetdesmaures.com
DTSTART;TZID=Europe/Paris:20251010T093000
DTEND;TZID=Europe/Paris:20251010T123000
DTSTAMP:20251009T091807Z
URL:https://www.lecannetdesmaures.com/evenements/atelier-fraudes-et-arnaqu
 es/
SUMMARY:Atelier fraudes et arnaques
DESCRIPTION:Atelier gratuit pour savoir comment éviter les fraudes et arna
 ques sur internet.\nUne séance d’une durée de 3h\, pour les jeunes de 
 60 ans et +\, le vendredi 10 octobre à la Médiathèque Marcel-Migozzi.\n
 Renseignements :\nInfos et inscriptions : 04 94 50 10 09&nbsp\;ou 04 94 50
  08 21\nccas@lecannetdesmaures.com
ATTACH;FMTTYPE=image/jpeg:https://www.lecannetdesmaures.com/app/uploads/20
 25/09/2025_AFFICHE-FRAUDES-ARNAQUES-scaled.jpg
CATEGORIES:Agenda
END:VEVENT
BEGIN:VTIMEZONE
TZID:Europe/Paris
X-LIC-LOCATION:Europe/Paris
BEGIN:DAYLIGHT
DTSTART:20250330T030000
TZOFFSETFROM:+0100
TZOFFSETTO:+0200
TZNAME:CEST
END:DAYLIGHT
END:VTIMEZONE
END:VCALENDAR