BEGIN:VCALENDAR
VERSION:2.0
PRODID:-//wp-events-plugin.com//7.1.7//EN
TZID:Europe/Paris
X-WR-TIMEZONE:Europe/Paris
BEGIN:VEVENT
UID:0-415@lecannetdesmaures.com
DTSTART;TZID=Europe/Paris:20250927T143000
DTEND;TZID=Europe/Paris:20250927T153000
DTSTAMP:20250815T111916Z
URL:https://www.lecannetdesmaures.com/evenements/atelier-planete-sciences/
SUMMARY:ATELIER PLANÈTE SCIENCES
DESCRIPTION:Par les médiateurs de l’association Planètes Sciences\nEntr
 ée gratuite\,&nbsp\;sur inscription&nbsp\;– A partir de 5 ans\nViens pa
 rticiper à des expériences scientifiques sur la découverte de la biodiv
 ersité marine\, l’acidification des océans et la pollution plastique.\
 nL’atelier se terminera par un&nbsp\;escape game&nbsp\;sur la Méditerra
 née avec des énigmes sur la conservation des espèces\, les poissons que
  l’on mange\, la posidonie et la laisse de mer.\nRenseignements :\nTél.
  : 04 94 50 35 20
ATTACH;FMTTYPE=image/jpeg:https://www.lecannetdesmaures.com/app/uploads/20
 25/08/Visuels-enfant-3107-v4-1-1-scaled-1.jpg
CATEGORIES:Agenda
END:VEVENT
BEGIN:VTIMEZONE
TZID:Europe/Paris
X-LIC-LOCATION:Europe/Paris
BEGIN:DAYLIGHT
DTSTART:20250330T030000
TZOFFSETFROM:+0100
TZOFFSETTO:+0200
TZNAME:CEST
END:DAYLIGHT
END:VTIMEZONE
END:VCALENDAR