BEGIN:VCALENDAR
VERSION:2.0
PRODID:-//wp-events-plugin.com//7.1.7//EN
TZID:Europe/Paris
X-WR-TIMEZONE:Europe/Paris
BEGIN:VEVENT
UID:0-421@lecannetdesmaures.com
DTSTART;TZID=Europe/Paris:20251017T093000
DTEND;TZID=Europe/Paris:20251107T113000
DTSTAMP:20250903T122923Z
URL:https://www.lecannetdesmaures.com/evenements/atelier-smartphone-et-tab
 lette/
SUMMARY:Atelier smartphone et tablette
DESCRIPTION:Découverte et maîtrise.\nCycle d’ateliers animé par un pro
 fessionnel. \n4 séances d’une durée de 2h\, pour les jeunes de 60 ans 
 et +\, du 17 octobre au 7 novembre 2025.\nRenseignements :\nInfos et inscr
 iptions : 04 94 50 10 09&nbsp\;ou 04 94 50 08 21\nccas@lecannetdesmaures.c
 om
ATTACH;FMTTYPE=image/jpeg:https://www.lecannetdesmaures.com/app/uploads/20
 25/09/2025_AFFICHE-PHONE-scaled.jpg
CATEGORIES:Agenda
END:VEVENT
BEGIN:VTIMEZONE
TZID:Europe/Paris
X-LIC-LOCATION:Europe/Paris
BEGIN:DAYLIGHT
DTSTART:20250330T030000
TZOFFSETFROM:+0100
TZOFFSETTO:+0200
TZNAME:CEST
END:DAYLIGHT
BEGIN:STANDARD
DTSTART:20251026T020000
TZOFFSETFROM:+0200
TZOFFSETTO:+0100
TZNAME:CET
END:STANDARD
END:VTIMEZONE
END:VCALENDAR