BEGIN:VCALENDAR
VERSION:2.0
PRODID:-//wp-events-plugin.com//7.1.7//EN
TZID:Europe/Paris
X-WR-TIMEZONE:Europe/Paris
BEGIN:VEVENT
UID:0-444@lecannetdesmaures.com
DTSTART;TZID=Europe/Paris:20251030T143000
DTEND;TZID=Europe/Paris:20251030T170000
DTSTAMP:20251020T125055Z
URL:https://www.lecannetdesmaures.com/evenements/atelier-tempera-avec-le-c
 onservatoire-du-patrimoine-du-freinet/
SUMMARY:Atelier TEMPERA avec le Conservatoire du Patrimoine du Freinet.
DESCRIPTION:Jeudi 30 octobre à 14h30 avec Cathy LEFOU\, artiste plasticien
 ne : "C'est les vacances!"\nSur inscription dès 7 ans.\nRenseignements et
  inscriptions : 04 94 50 35 20
ATTACH;FMTTYPE=image/jpeg:https://www.lecannetdesmaures.com/app/uploads/20
 25/10/562320754_818250237231030_7603557920809791090_n.jpg
CATEGORIES:Agenda
END:VEVENT
BEGIN:VTIMEZONE
TZID:Europe/Paris
X-LIC-LOCATION:Europe/Paris
BEGIN:STANDARD
DTSTART:20251026T020000
TZOFFSETFROM:+0200
TZOFFSETTO:+0100
TZNAME:CET
END:STANDARD
END:VTIMEZONE
END:VCALENDAR