BEGIN:VCALENDAR
VERSION:2.0
PRODID:-//wp-events-plugin.com//7.1.7//EN
TZID:Europe/Paris
X-WR-TIMEZONE:Europe/Paris
BEGIN:VEVENT
UID:0-396@lecannetdesmaures.com
DTSTART;TZID=Europe/Paris:20250808T200000
DTEND;TZID=Europe/Paris:20250808T235900
DTSTAMP:20250730T122900Z
URL:https://www.lecannetdesmaures.com/evenements/balade-nocturne/
SUMMARY:Balade contée nocturne
DESCRIPTION:Vendredi 8 août\, 20h - Balade contée nocturne dans le cadre 
 de la « Nuit internationale de la chauve-souris ».\nAccompagnés par Gil
 les El Baz\, conteur et un expert en chauve-souris du CEN PACA\, vous rent
 rerez dans le monde mystérieux des chauves-souris le temps d’une soiré
 e.\nTout public. Enfants à partir de 6 ans.\nRenseignements et réservati
 ons :\n04 94 50 06 04\nenvironnement@lecannetdesmaures.com
ATTACH;FMTTYPE=image/jpeg:https://www.lecannetdesmaures.com/app/uploads/20
 25/07/08.08-Balade-contee-chauve-souris.jpg
CATEGORIES:Agenda
END:VEVENT
BEGIN:VTIMEZONE
TZID:Europe/Paris
X-LIC-LOCATION:Europe/Paris
BEGIN:DAYLIGHT
DTSTART:20250330T030000
TZOFFSETFROM:+0100
TZOFFSETTO:+0200
TZNAME:CEST
END:DAYLIGHT
END:VTIMEZONE
END:VCALENDAR