BEGIN:VCALENDAR
VERSION:2.0
PRODID:-//wp-events-plugin.com//7.1.7//EN
TZID:Europe/Paris
X-WR-TIMEZONE:Europe/Paris
BEGIN:VEVENT
UID:0-374@lecannetdesmaures.com
DTSTART;TZID=Europe/Paris:20250617T100000
DTEND;TZID=Europe/Paris:20250617T113000
DTSTAMP:20250605T100726Z
URL:https://www.lecannetdesmaures.com/evenements/bebes-lecteurs-2/
SUMMARY:Les Bébés Lecteurs
DESCRIPTION:Mardi 17 juin à 10h\, les Bébés Lecteurs.\nSéances de lectu
 res animées avec comptines et jeux de doigts\, des histoires pour les tou
 t-petits pour donner le goût des livres.\nRenseignements et inscriptions 
 :\n04 94 50 35 20\n(De 0 à 3 ans)
ATTACH;FMTTYPE=image/jpeg:https://www.lecannetdesmaures.com/app/uploads/20
 25/02/bebe-lecteur.jpg
CATEGORIES:Agenda
END:VEVENT
BEGIN:VTIMEZONE
TZID:Europe/Paris
X-LIC-LOCATION:Europe/Paris
BEGIN:DAYLIGHT
DTSTART:20250330T030000
TZOFFSETFROM:+0100
TZOFFSETTO:+0200
TZNAME:CEST
END:DAYLIGHT
END:VTIMEZONE
END:VCALENDAR