BEGIN:VCALENDAR
VERSION:2.0
PRODID:-//wp-events-plugin.com//7.1.7//EN
TZID:Europe/Paris
X-WR-TIMEZONE:Europe/Paris
BEGIN:VEVENT
UID:0-447@lecannetdesmaures.com
DTSTART;TZID=Europe/Paris:20251108T090000
DTEND;TZID=Europe/Paris:20251108T170000
DTSTAMP:20251027T110210Z
URL:https://www.lecannetdesmaures.com/evenements/bourse-aux-jouets/
SUMMARY:Bourse aux jouets
DESCRIPTION:Samedi 8 novembre 2025\, de 9h à 17h\, salle du RECOUX. \nOrga
 nisée par l'Association des Parents d'Élèves Les Enfants d'Abord.\nInfo
 s/réservations : \nTél : 06 73 48 24 51 (apei.lesenfantsdabord@gmail.com
 )
ATTACH;FMTTYPE=image/jpeg:https://www.lecannetdesmaures.com/app/uploads/20
 25/10/marvel-5364165_1280.jpg
CATEGORIES:Agenda
END:VEVENT
BEGIN:VTIMEZONE
TZID:Europe/Paris
X-LIC-LOCATION:Europe/Paris
BEGIN:STANDARD
DTSTART:20251026T020000
TZOFFSETFROM:+0200
TZOFFSETTO:+0100
TZNAME:CET
END:STANDARD
END:VTIMEZONE
END:VCALENDAR