BEGIN:VCALENDAR
VERSION:2.0
PRODID:-//wp-events-plugin.com//7.1.7//EN
TZID:Europe/Paris
X-WR-TIMEZONE:Europe/Paris
BEGIN:VEVENT
UID:0-384@lecannetdesmaures.com
DTSTART;TZID=Europe/Paris:20250712T090000
DTEND;TZID=Europe/Paris:20250712T150000
DTSTAMP:20250619T104418Z
URL:https://www.lecannetdesmaures.com/evenements/bourse-multi-collections-
 3/
SUMMARY:Bourse multi-collections
DESCRIPTION:Samedi 12 juillet\, bourse multi-collections dans la salle du F
 oyer Rural (à côté de la Mairie) de 9h à 15h.\nEntrée libre.\nContact
 s et renseignements :\n06 50 08 88 66
ATTACH;FMTTYPE=image/jpeg:https://www.lecannetdesmaures.com/app/uploads/20
 25/06/Affiche-12-07-2025.jpg
CATEGORIES:Agenda
END:VEVENT
BEGIN:VTIMEZONE
TZID:Europe/Paris
X-LIC-LOCATION:Europe/Paris
BEGIN:DAYLIGHT
DTSTART:20250330T030000
TZOFFSETFROM:+0100
TZOFFSETTO:+0200
TZNAME:CEST
END:DAYLIGHT
END:VTIMEZONE
END:VCALENDAR