BEGIN:VCALENDAR
VERSION:2.0
PRODID:-//wp-events-plugin.com//7.1.7//EN
TZID:Europe/Paris
X-WR-TIMEZONE:Europe/Paris
BEGIN:VEVENT
UID:0-433@lecannetdesmaures.com
DTSTART;TZID=Europe/Paris:20250927T090000
DTEND;TZID=Europe/Paris:20250927T150000
DTSTAMP:20250919T090025Z
URL:https://www.lecannetdesmaures.com/evenements/bourse-multicollections-2
 /
SUMMARY:Bourse multi collections
DESCRIPTION:Samedi 27 septembre 2025\, de 9h à 15h au foyer rural.\nAmenez
  vos trésors\, doublons\, bonne humeur !\nRenseignements :\nInfos et rés
 ervations : 06 50 08 88 66
ATTACH;FMTTYPE=image/jpeg:https://www.lecannetdesmaures.com/app/uploads/20
 25/09/Affiche-bourse-mail.jpg
CATEGORIES:Agenda
END:VEVENT
BEGIN:VTIMEZONE
TZID:Europe/Paris
X-LIC-LOCATION:Europe/Paris
BEGIN:DAYLIGHT
DTSTART:20250330T030000
TZOFFSETFROM:+0100
TZOFFSETTO:+0200
TZNAME:CEST
END:DAYLIGHT
END:VTIMEZONE
END:VCALENDAR