BEGIN:VCALENDAR
VERSION:2.0
PRODID:-//wp-events-plugin.com//7.1.7//EN
TZID:Europe/Paris
X-WR-TIMEZONE:Europe/Paris
BEGIN:VEVENT
UID:0-409@lecannetdesmaures.com
DTSTART;TZID=Europe/Paris:20250916T100000
DTEND;TZID=Europe/Paris:20250916T110000
DTSTAMP:20250815T103054Z
URL:https://www.lecannetdesmaures.com/evenements/comedie-musicale/
SUMMARY:BÉBÉS LECTEURS : La sirène des îles d’or
DESCRIPTION:Par la compagnie TERRE-ANGA\nEntrée gratuite sur inscription&n
 bsp\;– bébés de 0 à 3 ans\nMardi 16 septembre à 10h\, comédie music
 ale toute en récup’ sur la Méditerranée et la pollution marine\nC’e
 st l’histoire d’une pêcheuse\, marinière et ciré jaune. Chaque jour
  elle pêche ordures et détritus. Chaque jour elle attend que se réalise
 nt ses rêves et ses espoirs. Elle attend la sirène des Îles d’Or\, ch
 eveux bleus et coquillages. Ici\, la légende dit qu’elle exauce votre v
 oeu le plus précieux… C’est une comédie musicale toute en récup’ 
 sur la Méditerranée et la pollution marine. Un spectacle joyeux qui lais
 se place aux rêves et à l’extraordinaire…\nRenseignements :\nTél. :
  04 94 50 35 20
ATTACH;FMTTYPE=image/jpeg:https://www.lecannetdesmaures.com/app/uploads/20
 25/08/Visuels-enfant-3107-v4-1-2-scaled-1.jpg
CATEGORIES:Agenda
END:VEVENT
BEGIN:VTIMEZONE
TZID:Europe/Paris
X-LIC-LOCATION:Europe/Paris
BEGIN:DAYLIGHT
DTSTART:20250330T030000
TZOFFSETFROM:+0100
TZOFFSETTO:+0200
TZNAME:CEST
END:DAYLIGHT
END:VTIMEZONE
END:VCALENDAR