BEGIN:VCALENDAR
VERSION:2.0
PRODID:-//wp-events-plugin.com//7.1.7//EN
TZID:Europe/Paris
X-WR-TIMEZONE:Europe/Paris
BEGIN:VEVENT
UID:0-448@lecannetdesmaures.com
DTSTART;TZID=Europe/Paris:20251111T104500
DTEND;TZID=Europe/Paris:20251111T120000
DTSTAMP:20251027T111502Z
URL:https://www.lecannetdesmaures.com/evenements/commemoration-armistice/
SUMMARY:Commémoration Armistice Première Guerre Mondiale
DESCRIPTION:Mardi 11 novembre 2025\, Commémoration armistice 1ére Guerre 
 mondiale.\nPrise d'armes avec l'EALAT au Monument aux morts à 10h45 suivi
 e du discours des autorités et d'un apéritif dans le parc de la mairie o
 u au grand foyer si intempérie.\nRenseignements :\nTél : 06 34 98 04 62
ATTACH;FMTTYPE=image/jpeg:https://www.lecannetdesmaures.com/app/uploads/20
 25/10/insta-2025.jpg
CATEGORIES:Agenda
END:VEVENT
BEGIN:VTIMEZONE
TZID:Europe/Paris
X-LIC-LOCATION:Europe/Paris
BEGIN:STANDARD
DTSTART:20251026T020000
TZOFFSETFROM:+0200
TZOFFSETTO:+0100
TZNAME:CET
END:STANDARD
END:VTIMEZONE
END:VCALENDAR