BEGIN:VCALENDAR
VERSION:2.0
PRODID:-//wp-events-plugin.com//7.1.7//EN
TZID:Europe/Paris
X-WR-TIMEZONE:Europe/Paris
BEGIN:VEVENT
UID:0-429@lecannetdesmaures.com
DTSTART;TZID=Europe/Paris:20250920T180000
DTEND;TZID=Europe/Paris:20250920T193000
DTSTAMP:20250915T095209Z
URL:https://www.lecannetdesmaures.com/evenements/concert-lyrique/
SUMMARY:Concert de chant lyrique
DESCRIPTION:Le samedi 20 septembre 2025 à 18h à l'Église Saint-Michel du
  Vieux-Cannet\, concert de chant lyrique par le groupe SOLVENTO de Lyon.\n
 Concert donné dans le cadre des Journées européennes du Patrimoine.\nRe
 nseignements :\nTél. : 04 94 50 10 09\nc.diot@lecannetdesmaures.com
ATTACH;FMTTYPE=image/jpeg:https://www.lecannetdesmaures.com/app/uploads/20
 25/09/2025-09-journees-patrimoine-concert-lyrique.png
CATEGORIES:Agenda,Culture
END:VEVENT
BEGIN:VTIMEZONE
TZID:Europe/Paris
X-LIC-LOCATION:Europe/Paris
BEGIN:DAYLIGHT
DTSTART:20250330T030000
TZOFFSETFROM:+0100
TZOFFSETTO:+0200
TZNAME:CEST
END:DAYLIGHT
END:VTIMEZONE
END:VCALENDAR