BEGIN:VCALENDAR
VERSION:2.0
PRODID:-//wp-events-plugin.com//7.1.7//EN
TZID:Europe/Paris
X-WR-TIMEZONE:Europe/Paris
BEGIN:VEVENT
UID:0-398@lecannetdesmaures.com
DTSTART;TZID=Europe/Paris;VALUE=DATE:20250723
DTEND;TZID=Europe/Paris;VALUE=DATE:20250830
DTSTAMP:20250723T141811Z
URL:https://www.lecannetdesmaures.com/evenements/concours-photo-et-artisti
 que/
SUMMARY:Concours photo &amp\; artistique : "Mon regard sur la Mer"
DESCRIPTION:La Ville du Cannet des Maures organise\, du 23 juillet au 29 ao
 ût 2025\, un concours photo et artistique ouvert à tous\, sur le thème 
 :\n"Mon regard sur la Mer"\nLaissez libre cours à votre créativité en e
 xprimant votre vision de la mer à travers une photo\, une peinture\, un d
 essin\, ou tout autre support artistique.\n👥 Trois catégories de parti
 cipants :\nPitchouns : moins de 12 ans\nJeunes : de 13 à 18 ans\nAdultes 
 : à partir de 19 ans\n🏆 De nombreux lots à gagner :\nSorties en mer\n
 Baptêmes de plongée\nEt d'autres belles surprises…\n🎉 Remise des pr
 ix :\nElle aura lieu le 5 septembre 2025 lors d’un moment convivial orga
 nisé par la Vill\nRenseignements et inscriptions :\n04 94 50 06 04\nenvir
 onnement@lecannetdesmaures.com
ATTACH;FMTTYPE=image/jpeg:https://www.lecannetdesmaures.com/app/uploads/20
 25/07/Mon-regard-sur-la-mer-Affiche-concours-VDEF-scaled.jpg
CATEGORIES:Agenda,Développement durable
END:VEVENT
BEGIN:VTIMEZONE
TZID:Europe/Paris
X-LIC-LOCATION:Europe/Paris
BEGIN:DAYLIGHT
DTSTART:20250330T030000
TZOFFSETFROM:+0100
TZOFFSETTO:+0200
TZNAME:CEST
END:DAYLIGHT
END:VTIMEZONE
END:VCALENDAR