BEGIN:VCALENDAR
VERSION:2.0
PRODID:-//wp-events-plugin.com//7.1.7//EN
TZID:Europe/Paris
X-WR-TIMEZONE:Europe/Paris
BEGIN:VEVENT
UID:0-404@lecannetdesmaures.com
DTSTART;TZID=Europe/Paris:20250902T180000
DTEND;TZID=Europe/Paris:20250902T193000
DTSTAMP:20250902T131752Z
URL:https://www.lecannetdesmaures.com/evenements/conference-2/
SUMMARY:CONFÉRENCE : “POSIDONIE: Végétal essentiel à notre planète
 ”
DESCRIPTION:Par Pierre Boissery\, directeur scientifique auprès de l’Age
 nce de l’eau\, mardi 2 septembre à 18h.\nEntrée libre et gratuite\nLes
  posidonies et le phytoplancton produisent à eux deux 70 % de l’oxygèn
 e de la planète et absorbent 50 % du CO₂\, ce qui en fait des végétau
 x marins essentiels à la santé de notre planète. L’expertise de Pierr
 e Boissery nous amènera à nous interroger sur cette plante qu’est la p
 osidonie\, mais aussi sur l’état de santé actuel des herbiers de cette
  dernière. Après diffusion d’un documentaire\, Pierre Boissery conduir
 a une conférence en évoquant la présentation de la posidonie\, son rôl
 e écologique\, sa fragilité et l’état de santé des herbiers de posid
 onies en Méditerranée.\nRenseignements :\nTél. : 04 94 50 35 20
ATTACH;FMTTYPE=image/jpeg:https://www.lecannetdesmaures.com/app/uploads/20
 25/08/09.02-Conference-Posidonie-Pierre-Boissery-scaled-1.jpg
CATEGORIES:Agenda
END:VEVENT
BEGIN:VTIMEZONE
TZID:Europe/Paris
X-LIC-LOCATION:Europe/Paris
BEGIN:DAYLIGHT
DTSTART:20250330T030000
TZOFFSETFROM:+0100
TZOFFSETTO:+0200
TZNAME:CEST
END:DAYLIGHT
END:VTIMEZONE
END:VCALENDAR