BEGIN:VCALENDAR
VERSION:2.0
PRODID:-//wp-events-plugin.com//7.1.7//EN
TZID:Europe/Paris
X-WR-TIMEZONE:Europe/Paris
BEGIN:VEVENT
UID:0-406@lecannetdesmaures.com
DTSTART;TZID=Europe/Paris:20250912T183000
DTEND;TZID=Europe/Paris:20250912T200000
DTSTAMP:20250815T101036Z
URL:https://www.lecannetdesmaures.com/evenements/conference-3/
SUMMARY:CONFÉRENCE : “A l’écoute des cétacés de méditerranée”
DESCRIPTION:Vendredi 12 septembre à 18h30\, conférence par l’associatio
 n MIRACETI.\nMIRACETI est une association qui oeuvre pour la préservation
  des mammifères marins -Rorqual\, dauphin\, Cachalot\, Baleine – en mer
  Méditerranée. Découvrez le monde fascinant des cétacés de Méditerra
 née à travers le regard des scientifiques de MIRACETI. Cette conférence
  présente les travaux de l’association : observation en mer\, enregistr
 ement des sons sous-marins\, identification des espèces\, et les menaces 
 croissantes qui pèsent sur ces animaux — notamment le trafic maritime e
 t le bruit océanique. Une plongée scientifique et sensible pour mieux co
 mprendre et protéger ces espèces discrètes\, mais essentielles à la sa
 nté de nos océans.\nRenseignements :\nTél. : 04 94 50 35 20
ATTACH;FMTTYPE=image/jpeg:https://www.lecannetdesmaures.com/app/uploads/20
 25/08/09.12-Conference-cetaces-Miraceti-A-CONFIRMER-scaled-1.jpg
CATEGORIES:Agenda
END:VEVENT
BEGIN:VTIMEZONE
TZID:Europe/Paris
X-LIC-LOCATION:Europe/Paris
BEGIN:DAYLIGHT
DTSTART:20250330T030000
TZOFFSETFROM:+0100
TZOFFSETTO:+0200
TZNAME:CEST
END:DAYLIGHT
END:VTIMEZONE
END:VCALENDAR