BEGIN:VCALENDAR
VERSION:2.0
PRODID:-//wp-events-plugin.com//7.1.7//EN
TZID:Europe/Paris
X-WR-TIMEZONE:Europe/Paris
BEGIN:VEVENT
UID:0-410@lecannetdesmaures.com
DTSTART;TZID=Europe/Paris:20250916T180000
DTEND;TZID=Europe/Paris:20250916T190000
DTSTAMP:20250815T104230Z
URL:https://www.lecannetdesmaures.com/evenements/conference-4/
SUMMARY:CONFÉRENCE : “Océans\, santé planétaire\, santé humaine : co
 mprendre les liens\, passer à l’action”
DESCRIPTION:Le samedi 16 septembre à 18h\, par Nathalie Casanova\, fondatr
 ice de l’association Sanavie.\nEt si protéger les océans commençait d
 ans notre assiette\, notre salle de bain et nos choix du quotidien ? Cette
  conférence accessible à tous vous fera découvrir les liens entre notre
  mode de vie\, la santé de la planète et notre propre santé. Une heure 
 pour mieux comprendre… et repartir avec des idées simples pour agir au 
 quotidien\, en famille !\nRenseignements :\nTél. : 04 94 50 35 20
ATTACH;FMTTYPE=image/jpeg:https://www.lecannetdesmaures.com/app/uploads/20
 25/08/09.16-Une-seule-sante-Nathalie-Casanova-scaled-1.jpg
CATEGORIES:Agenda
END:VEVENT
BEGIN:VTIMEZONE
TZID:Europe/Paris
X-LIC-LOCATION:Europe/Paris
BEGIN:DAYLIGHT
DTSTART:20250330T030000
TZOFFSETFROM:+0100
TZOFFSETTO:+0200
TZNAME:CEST
END:DAYLIGHT
END:VTIMEZONE
END:VCALENDAR