BEGIN:VCALENDAR
VERSION:2.0
PRODID:-//wp-events-plugin.com//7.1.7//EN
TZID:Europe/Paris
X-WR-TIMEZONE:Europe/Paris
BEGIN:VEVENT
UID:0-372@lecannetdesmaures.com
DTSTART;TZID=Europe/Paris:20250606T183000
DTEND;TZID=Europe/Paris:20250606T200000
DTSTAMP:20250605T090440Z
URL:https://www.lecannetdesmaures.com/evenements/conference-du-graffiti-au
 -street-art-une-histoire-etonnante/
SUMMARY:Conférence « Du graffiti au street art : une histoire étonnante 
 »
DESCRIPTION:Vendredi 6 juin\, conférence "Du graffiti au street art  à 18
 h30 à la Médiathèque Marcel Migozzi :  une histoire étonnante" par Chr
 istophe Gérini\, historien des Arts Actuels. Graffitis\, tags\, art urbai
 n\, street art… Ce que nous voyons sur les murs ou ce qui est gravé dan
 s la pierre depuis des millénaires a toujours interrogé les hommes.\nMai
 s que recouvrent ces mots ? Quels chemins et quelles intentions ont condui
 t ce « street art » du statut de vandalisme répréhensible et souvent c
 ondamné à sa reconnaissance dans les sphères publiques (commandes\, ach
 ats d’œuvres pour les musées\, festivals) et privées (galeries\, marc
 hé de l’art en général) ?\nRenseignements :\n04 94 50 35 20
ATTACH;FMTTYPE=image/jpeg:https://www.lecannetdesmaures.com/app/uploads/20
 25/06/491934644_685807707141951_9078753351800478013_n.jpg
CATEGORIES:Agenda
END:VEVENT
BEGIN:VTIMEZONE
TZID:Europe/Paris
X-LIC-LOCATION:Europe/Paris
BEGIN:DAYLIGHT
DTSTART:20250330T030000
TZOFFSETFROM:+0100
TZOFFSETTO:+0200
TZNAME:CEST
END:DAYLIGHT
END:VTIMEZONE
END:VCALENDAR