BEGIN:VCALENDAR
VERSION:2.0
PRODID:-//wp-events-plugin.com//7.1.7//EN
TZID:Europe/Paris
X-WR-TIMEZONE:Europe/Paris
BEGIN:VEVENT
UID:0-414@lecannetdesmaures.com
DTSTART;TZID=Europe/Paris:20250926T183000
DTEND;TZID=Europe/Paris:20250926T193000
DTSTAMP:20250815T111617Z
URL:https://www.lecannetdesmaures.com/evenements/conference-montee-des-eau
 x-que-faire-pour-proteger-les-cotes-de-la-mediterranee/
SUMMARY:CONFÉRENCE : “Montée des eaux : Que faire pour protéger les c
 ôtes de la Méditerranée?”
DESCRIPTION:Par Alexandre Meinesz\, professeur émérite à l’Université
  Côte d’Azur.\nRenseignements :\nTél. : 04 94 50 35 20
ATTACH;FMTTYPE=image/jpeg:https://www.lecannetdesmaures.com/app/uploads/20
 25/08/09.26-Conference-montee-des-eaux-Alexandre-Meinesz-scaled-1.jpg
CATEGORIES:Agenda
END:VEVENT
BEGIN:VTIMEZONE
TZID:Europe/Paris
X-LIC-LOCATION:Europe/Paris
BEGIN:DAYLIGHT
DTSTART:20250330T030000
TZOFFSETFROM:+0100
TZOFFSETTO:+0200
TZNAME:CEST
END:DAYLIGHT
END:VTIMEZONE
END:VCALENDAR