BEGIN:VCALENDAR
VERSION:2.0
PRODID:-//wp-events-plugin.com//7.1.7//EN
TZID:Europe/Paris
X-WR-TIMEZONE:Europe/Paris
BEGIN:VEVENT
UID:0-417@lecannetdesmaures.com
DTSTART;TZID=Europe/Paris:20250919T183000
DTEND;TZID=Europe/Paris:20250919T203000
DTSTAMP:20250904T081038Z
URL:https://www.lecannetdesmaures.com/evenements/conference-paul-watson-et
 -lamya-essemlali-la-protection-des-oceans/
SUMMARY:CONFÉRENCE : PAUL WATSON et LAMYA ESSEMLALI : La protection des oc
 éans
DESCRIPTION:18h30 –&nbsp\;Salle du Recoux\nEntrée gratuite –&nbsp\;Ins
 cription obligatoire&nbsp\;: suivre le lien ou utiliser le QR ci-dessous :
 \nwww.weezevent.com/conference-paul-watson\nÊtes-vous prêt à mourir pou
 r une baleine ? Telle est la question radicale que pose le Capitaine Paul 
 Watson\, fondateur de Sea Shepherd\, et Lamya Essemlali\, présidente de S
 ea Shepherd France. Lors de cette conférence exceptionnelle\, ils reviend
 ront sur leurs parcours respectifs\, la création du mouvement Sea Shepher
 d avant de s’attarder sur les missions actuellement en cours : tortues d
 e Mayotte\, dauphins du golf de Gascogne\, orques ibériques\, chasse bale
 inière…\nRenseignements :\nTél. : 04 94 50 35 20
ATTACH;FMTTYPE=image/jpeg:https://www.lecannetdesmaures.com/app/uploads/20
 25/08/Affiche-conf-WATSON_VDEF-scaled.jpg
CATEGORIES:Agenda
END:VEVENT
BEGIN:VTIMEZONE
TZID:Europe/Paris
X-LIC-LOCATION:Europe/Paris
BEGIN:DAYLIGHT
DTSTART:20250330T030000
TZOFFSETFROM:+0100
TZOFFSETTO:+0200
TZNAME:CEST
END:DAYLIGHT
END:VTIMEZONE
END:VCALENDAR