BEGIN:VCALENDAR
VERSION:2.0
PRODID:-//wp-events-plugin.com//7.1.7//EN
TZID:Europe/Paris
X-WR-TIMEZONE:Europe/Paris
BEGIN:VEVENT
UID:0-446@lecannetdesmaures.com
DTSTART;TZID=Europe/Paris:20251107T183000
DTEND;TZID=Europe/Paris:20251107T210000
DTSTAMP:20251027T105335Z
URL:https://www.lecannetdesmaures.com/evenements/conference-tortues/
SUMMARY:Conférence Projection « Les Tortues succès de l'évolution »
DESCRIPTION:Vendredi 7 novembre 2025 à 18h30 au sein de la Médiathèque M
 arcel Migozzi\, projection du film Sauvage comme une Tortue d'Hermann. \nP
 ar Stéphane Gagno\, biologiste et adjoint de direction Zoologie au Villag
 e des Tortues. Animation proposée dans le cadre de la manifestation natio
 nale du Mois du film documentaire et à l’occasion de la sortie du livre
  Les Tortues\, Succès de l'évolution.\nLes tortues sont des animaux pré
 sents sur terre depuis l'origine même des dinosaures. Elles font preuve d
 'une formidable adaptation. Partez à la découverte de leur origine\, de 
 l'invention de la carapace il y des dizaines de millions d'années\, à le
 ur diversité actuelle. Comment ces descendants des Reptiles ont-ils form
 é la surprenant carapace protectrice qui les enveloppe ? Pourquoi certain
 es espèces sont-elles marines ou terrestres ? Qu'est-ce qui détermine le
 ur régime herbivore ou omnivore ? Le conférencier nous offrira un panora
 ma de l'ordre des tortues\, de leurs origines à leurs différenciations a
 u cours des temps géologiques. Les tortues ont expérimenté de nombreux 
 modes de vie et de protection jusqu'à identifier la meilleure « formule 
 »\, elles sont en cela un véritable succès de l'Évolution.\nInfos :\nT
 él : 04 94 50 35 20
ATTACH;FMTTYPE=image/jpeg:https://www.lecannetdesmaures.com/app/uploads/20
 25/10/IMG_4973-scaled.jpeg
CATEGORIES:Agenda
END:VEVENT
BEGIN:VTIMEZONE
TZID:Europe/Paris
X-LIC-LOCATION:Europe/Paris
BEGIN:STANDARD
DTSTART:20251026T020000
TZOFFSETFROM:+0200
TZOFFSETTO:+0100
TZNAME:CET
END:STANDARD
END:VTIMEZONE
END:VCALENDAR