BEGIN:VCALENDAR
VERSION:2.0
PRODID:-//wp-events-plugin.com//7.1.7//EN
TZID:Europe/Paris
X-WR-TIMEZONE:Europe/Paris
BEGIN:VEVENT
UID:0-402@lecannetdesmaures.com
DTSTART;TZID=Europe/Paris:20250924T183000
DTEND;TZID=Europe/Paris:20250924T220000
DTSTAMP:20250813T145333Z
URL:https://www.lecannetdesmaures.com/evenements/conseil-municipal-6/
SUMMARY:Conseil Municipal
DESCRIPTION:Séance du conseil Municipal le mercredi 24 septembre 2025 à 1
 8h30 salle du Conseil à l'Hôtel de Ville.
ATTACH;FMTTYPE=image/jpeg:https://www.lecannetdesmaures.com/app/uploads/20
 24/03/echarpe_maire.jpg
CATEGORIES:Agenda
END:VEVENT
BEGIN:VTIMEZONE
TZID:Europe/Paris
X-LIC-LOCATION:Europe/Paris
BEGIN:DAYLIGHT
DTSTART:20250330T030000
TZOFFSETFROM:+0100
TZOFFSETTO:+0200
TZNAME:CEST
END:DAYLIGHT
END:VTIMEZONE
END:VCALENDAR