BEGIN:VCALENDAR
VERSION:2.0
PRODID:-//wp-events-plugin.com//7.1.7//EN
TZID:Europe/Paris
X-WR-TIMEZONE:Europe/Paris
BEGIN:VEVENT
UID:0-407@lecannetdesmaures.com
DTSTART;TZID=Europe/Paris:20250913T143000
DTEND;TZID=Europe/Paris:20250913T160000
DTSTAMP:20250815T101701Z
URL:https://www.lecannetdesmaures.com/evenements/contes/
SUMMARY:CONTES
DESCRIPTION:Samedi 13 septembre à 14h30\, Entrée libre – à partir de 4
  ans\nMarie Bagnol\, conteuse\, vous invite à une séance de contes&nbsp\
 ;inspirés des mers et des océans.\nRenseignements :\nTél. : 04 94 50 35
  20
ATTACH;FMTTYPE=image/jpeg:https://www.lecannetdesmaures.com/app/uploads/20
 25/08/Visuels-enfant-3107-v4-1-3-scaled-1.jpg
CATEGORIES:Agenda
END:VEVENT
BEGIN:VTIMEZONE
TZID:Europe/Paris
X-LIC-LOCATION:Europe/Paris
BEGIN:DAYLIGHT
DTSTART:20250330T030000
TZOFFSETFROM:+0100
TZOFFSETTO:+0200
TZNAME:CEST
END:DAYLIGHT
END:VTIMEZONE
END:VCALENDAR