BEGIN:VCALENDAR
VERSION:2.0
PRODID:-//wp-events-plugin.com//7.1.7//EN
TZID:Europe/Paris
X-WR-TIMEZONE:Europe/Paris
BEGIN:VEVENT
UID:0-434@lecannetdesmaures.com
DTSTART;TZID=Europe/Paris:20251020T080000
DTEND;TZID=Europe/Paris:20251020T123000
DTSTAMP:20250926T131202Z
URL:https://www.lecannetdesmaures.com/evenements/doon-de-sang/
SUMMARY:Don de sang
DESCRIPTION:Participez à la prochaine collecte organisée par l’EFS le l
 undi 20 octobre de 8h à 12h30 au Foyer Rural. \n30% des dons de sang serv
 ent à traiter des cancers.\nEn octobre\, c’est le moment d’agir. Le t
 raitement de cancers peut nécessiter des transfusions régulières\, nota
 mment pour pallier les effets de la chimiothérapie.\nLa lutte contre le c
 ancer passe par la mobilisation de toutes et tous pour le don de sang.\nPr
 enez RDV dès maintenant&nbsp\;: &nbsp\;https://efs.link/bBMkv
ATTACH;FMTTYPE=image/jpeg:https://www.lecannetdesmaures.com/app/uploads/20
 25/09/affiche-le-cannet-des-maures-scaled.jpg
CATEGORIES:Agenda,Solidarité
END:VEVENT
BEGIN:VTIMEZONE
TZID:Europe/Paris
X-LIC-LOCATION:Europe/Paris
BEGIN:DAYLIGHT
DTSTART:20250330T030000
TZOFFSETFROM:+0100
TZOFFSETTO:+0200
TZNAME:CEST
END:DAYLIGHT
END:VTIMEZONE
END:VCALENDAR