BEGIN:VCALENDAR
VERSION:2.0
PRODID:-//wp-events-plugin.com//7.1.7//EN
TZID:Europe/Paris
X-WR-TIMEZONE:Europe/Paris
BEGIN:VEVENT
UID:0-408@lecannetdesmaures.com
DTSTART;TZID=Europe/Paris;VALUE=DATE:20250915
DTEND;TZID=Europe/Paris;VALUE=DATE:20251005
DTSTAMP:20250815T102258Z
URL:https://www.lecannetdesmaures.com/evenements/experience-immersive/
SUMMARY:EXPÉRIENCE IMMERSIVE EN VR : Découvrez la vie sous-marine.
DESCRIPTION:Le monde sous-marin est un monde magique synonyme de tranquilli
 té et sérénité. Pourtant\, ce dernier demeure mystérieux pour un gran
 d nombre d’individus… Grâce aux masques de réalité virtuelle\, une 
 toute nouvelle expérience s’offre à vous : découvrez une épave mythi
 que\, plongez au milieu des dauphins et nagez avec les raies mantras. Cett
 e expérience immersive vous propose de découvrir les fonds marins tel un
  plongeur expérimenté.\nRenseignements :\nTél. : 04 94 50 35 20
ATTACH;FMTTYPE=image/jpeg:https://www.lecannetdesmaures.com/app/uploads/20
 25/08/meduse.jpeg
CATEGORIES:Agenda
END:VEVENT
BEGIN:VTIMEZONE
TZID:Europe/Paris
X-LIC-LOCATION:Europe/Paris
BEGIN:DAYLIGHT
DTSTART:20250330T030000
TZOFFSETFROM:+0100
TZOFFSETTO:+0200
TZNAME:CEST
END:DAYLIGHT
END:VTIMEZONE
END:VCALENDAR