BEGIN:VCALENDAR
VERSION:2.0
PRODID:-//wp-events-plugin.com//7.1.7//EN
TZID:Europe/Paris
X-WR-TIMEZONE:Europe/Paris
BEGIN:VEVENT
UID:0-376@lecannetdesmaures.com
DTSTART;TZID=Europe/Paris;VALUE=DATE:20250620
DTEND;TZID=Europe/Paris;VALUE=DATE:20250807
DTSTAMP:20250605T125759Z
URL:https://www.lecannetdesmaures.com/evenements/exposition-paule-van-gene
 berg/
SUMMARY:Exposition "À l'ombre de l'ombre" de Paule VAN GENEBERG
DESCRIPTION:Vendredi 20 juin à 18h30 à la Médiathèque\, vernissage de l
 'exposition "À l'ombre de l'ombre". \nDans la série photographique de Pa
 ule Van Geneberg « À l'ombre de l'ombre »\, l'humilité et l'obscurit
 é de l'être rejoignent joyeusement la lumière. Les traces perdues des a
 pparences trouvent la fantasmagorie et le génie des lieux. Dans l'ombre r
 essaisie\, se dessinent l'aventurière\, la marcheuse\, la déesse\, la f
 ée ou la protectrice des saisons.\nRenseignements :\n04 94 50 35 20\nEntr
 ée libre et gratuite.\nExposition du 20 juin au 6 août.
ATTACH;FMTTYPE=image/jpeg:https://www.lecannetdesmaures.com/app/uploads/20
 25/06/Bau-Rouge-V-5144-Paule-Generberg-scaled.jpg
CATEGORIES:Agenda
END:VEVENT
BEGIN:VTIMEZONE
TZID:Europe/Paris
X-LIC-LOCATION:Europe/Paris
BEGIN:DAYLIGHT
DTSTART:20250330T030000
TZOFFSETFROM:+0100
TZOFFSETTO:+0200
TZNAME:CEST
END:DAYLIGHT
END:VTIMEZONE
END:VCALENDAR