BEGIN:VCALENDAR
VERSION:2.0
PRODID:-//wp-events-plugin.com//7.1.7//EN
TZID:Europe/Paris
X-WR-TIMEZONE:Europe/Paris
BEGIN:VEVENT
UID:0-405@lecannetdesmaures.com
DTSTART;TZID=Europe/Paris:20250905T183000
DTEND;TZID=Europe/Paris:20250905T200000
DTSTAMP:20250904T072638Z
URL:https://www.lecannetdesmaures.com/evenements/exposition/
SUMMARY:VERNISSAGE EXPOSITION “Mers et océans plastifiés
DESCRIPTION:Vendredi 5 septembre à 18h30\, ouverture de l’exposition pr
 ésentée par Expédition Med. La remise des prix du concours photo et ar
 tistique aura lieu à cette occasion.\nExposition du 28 août au 4 octobre
  2025\nLien vers l’exposition :&nbsp\;https://mediatheque.lecannetdesmau
 res.com/actualite/exposition-oceans-et-mers-plastifies\nRenseignements :\n
 Tél. : 04 94 50 35 20
ATTACH;FMTTYPE=image/jpeg:https://www.lecannetdesmaures.com/app/uploads/20
 25/08/09.05-Exposition-mers-et-oceans-plastifies-Expedition-Med-scaled-1-1
 .jpg
CATEGORIES:Agenda
END:VEVENT
BEGIN:VTIMEZONE
TZID:Europe/Paris
X-LIC-LOCATION:Europe/Paris
BEGIN:DAYLIGHT
DTSTART:20250330T030000
TZOFFSETFROM:+0100
TZOFFSETTO:+0200
TZNAME:CEST
END:DAYLIGHT
END:VTIMEZONE
END:VCALENDAR