BEGIN:VCALENDAR
VERSION:2.0
PRODID:-//wp-events-plugin.com//7.1.7//EN
TZID:Europe/Paris
X-WR-TIMEZONE:Europe/Paris
BEGIN:VEVENT
UID:0-362@lecannetdesmaures.com
DTSTART;TZID=Europe/Paris:20250717T210000
DTEND;TZID=Europe/Paris:20250720T220000
DTSTAMP:20250430T152626Z
URL:https://www.lecannetdesmaures.com/evenements/festival-jazz-o-vieux-can
 net/
SUMMARY:Festival Jazz ô Vieux-Cannet
DESCRIPTION:Du 17 au 20 juillet 2025\, le Vieux-Cannet vibrera au son du ja
 zz à l’occasion d’une nouvelle édition du Festival Jazz Ô Vieux-Can
 net\, un événement estival désormais incontournable.\nOrganisé dans l
 ’écrin enchanteur du site patrimonial du Vieux-Cannet\, le festival cé
 lèbre la rencontre entre musique vivante et cadre historique. Entre ruell
 es pavées\, vue panoramique sur la plaine du Var et ambiance intimiste\, 
 chaque soirée promet d’être un véritable moment de grâce.\nAprès le
  succès de sa première édition\, ce second rendez-vous s’annonce rich
 e et éclectique :🎸 Adrien Moignard\, virtuose de la guitare jazz\,🎶
  PI Djob Afrosoul Ggang\, qui mêle énergies blues et swing\,🎺 L’inc
 ontournable Ronald Baker\, trompettiste et chanteur à la renommée intern
 ationale\, ou encore Kristin Marion.\nCe festival est aussi l’occasion d
 e (re)découvrir la richesse patrimoniale du Vieux-Cannet dans une ambianc
 e chaleureuse et estivale. Un événement à ne pas manquer\, pour tous le
 s amoureux de musique\, de culture et de lieux d’exception.\n📅 Du 17 
 au 20 juillet 2025📍 Vieux-Cannet\nLe programme\nJeudi 17 juillet à 21h
  : André MoignardVendredi 18 juillet à 21h : PI Djob Afrosoul GgangSamed
 i 19 juillet à 21h : Ronald BakerDimanche 20 juillet à 11h : Kristin Mar
 ion Gospel\nPlace par soirée : 15 €Pass 3 jours : 35 €\nBilletterie e
 n ligne  : https://jazzovieuxcannet.fr/\nRestauration sur place : profitez
  des food trucks et stands gourmands pour prolonger l’expérience.\nRens
 eignements :\nTél. : 04 94 50 35 20.
ATTACH;FMTTYPE=image/jpeg:https://www.lecannetdesmaures.com/app/uploads/20
 25/04/AFFICHE-JAZZ-2025-HD-VALIDEE-scaled.jpg
CATEGORIES:Agenda
END:VEVENT
BEGIN:VTIMEZONE
TZID:Europe/Paris
X-LIC-LOCATION:Europe/Paris
BEGIN:DAYLIGHT
DTSTART:20250330T030000
TZOFFSETFROM:+0100
TZOFFSETTO:+0200
TZNAME:CEST
END:DAYLIGHT
END:VTIMEZONE
END:VCALENDAR