BEGIN:VCALENDAR
VERSION:2.0
PRODID:-//wp-events-plugin.com//7.1.7//EN
TZID:Europe/Paris
X-WR-TIMEZONE:Europe/Paris
BEGIN:VEVENT
UID:0-391@lecannetdesmaures.com
DTSTART;TZID=Europe/Paris:20250725T180000
DTEND;TZID=Europe/Paris:20250727T000000
DTSTAMP:20250707T085206Z
URL:https://www.lecannetdesmaures.com/evenements/fete-locale/
SUMMARY:Fête locale
DESCRIPTION:Du vendredi 25 au dimanche 27 juillet 2025\, fête locale en ce
 ntre-ville.\nVendredi 25 juillet : manèges de 18h à minuit et à 21h30 b
 al avec le groupe ZEROCK.\nSamedi 26 juillet : manèges de 18h à minuit e
 t à 21h30 spectacle avec le groupe AIOLI.\nDimanche 27 juillet : manèges
  de 18h à minuit\, à 20h grand aïoli Parc Pellegrin et à 22h bal avec 
 le groupe XX Elle.\nOrganisé par le CACM.\nRenseignements :\n06 34 48 31 
 77
ATTACH;FMTTYPE=image/jpeg:https://www.lecannetdesmaures.com/app/uploads/20
 25/07/IMG_3633.jpeg
CATEGORIES:Agenda
END:VEVENT
BEGIN:VTIMEZONE
TZID:Europe/Paris
X-LIC-LOCATION:Europe/Paris
BEGIN:DAYLIGHT
DTSTART:20250330T030000
TZOFFSETFROM:+0100
TZOFFSETTO:+0200
TZNAME:CEST
END:DAYLIGHT
END:VTIMEZONE
END:VCALENDAR