BEGIN:VCALENDAR
VERSION:2.0
PRODID:-//wp-events-plugin.com//7.1.7//EN
TZID:Europe/Paris
X-WR-TIMEZONE:Europe/Paris
BEGIN:VEVENT
UID:0-363@lecannetdesmaures.com
DTSTART;TZID=Europe/Paris:20250523T180000
DTEND;TZID=Europe/Paris:20250523T230000
DTSTAMP:20250425T084339Z
URL:https://www.lecannetdesmaures.com/evenements/fete-voisins/
SUMMARY:Fête des Voisins
DESCRIPTION:La Fête des voisins est une fête à l'origine française\
 , créée en 1999\, qui se donne pour but de permettre à des voisins de s
 e rencontrer de façon conviviale\, afin de rompre l'isolement et de ten
 ter de créer un sentiment d'appartenance au quartier.\nLa Ville du Cann
 et des Maures participe chaque année à la fête. En 2025\, l'événement
  a lieu le vendredi 23 mai dès la fin d'après-midi. \nParticipez nombreu
 x !\nRenseignements :\nTél. : 04 94 50 10 09 \nGratuit
ATTACH;FMTTYPE=image/jpeg:https://www.lecannetdesmaures.com/app/uploads/20
 25/04/affiche-40x60-2.jpg
CATEGORIES:Agenda
END:VEVENT
BEGIN:VTIMEZONE
TZID:Europe/Paris
X-LIC-LOCATION:Europe/Paris
BEGIN:DAYLIGHT
DTSTART:20250330T030000
TZOFFSETFROM:+0100
TZOFFSETTO:+0200
TZNAME:CEST
END:DAYLIGHT
END:VTIMEZONE
END:VCALENDAR