BEGIN:VCALENDAR
VERSION:2.0
PRODID:-//wp-events-plugin.com//7.1.7//EN
TZID:Europe/Paris
X-WR-TIMEZONE:Europe/Paris
BEGIN:VEVENT
UID:0-401@lecannetdesmaures.com
DTSTART;TZID=Europe/Paris:20250906T090000
DTEND;TZID=Europe/Paris:20250906T123000
DTSTAMP:20250805T144740Z
URL:https://www.lecannetdesmaures.com/evenements/forum-associations/
SUMMARY:Forum des associations
DESCRIPTION:Samedi 6 septembre de 9h à 12h30\, sur l'aire du Recoux\, c'es
 t le grand rendez-vous attendu de la rentrée.\nSport\, culture\, loisirs\
 , solidarité\, environnement… Venez rencontrer les 60 associations cann
 etoises présentes et (re)découvrez la richesse de la vie associative de 
 votre commune lors du Forum des associations.\nQue vous soyez curieux\, pa
 ssionné ou en quête d’une nouvelle activité\, ce forum est fait pour 
 vous (petit ou grand !)\n Une matinée pour s’informer\, s’inscrire\,
  s’impliquer… et démarrer l’année du bon pied. \nRenseignements :
 \n Tél. : 06 11 98 66 79
ATTACH;FMTTYPE=image/jpeg:https://www.lecannetdesmaures.com/app/uploads/20
 25/08/2025_09_Forum-Assos_v01.jpg
CATEGORIES:Agenda
END:VEVENT
BEGIN:VTIMEZONE
TZID:Europe/Paris
X-LIC-LOCATION:Europe/Paris
BEGIN:DAYLIGHT
DTSTART:20250330T030000
TZOFFSETFROM:+0100
TZOFFSETTO:+0200
TZNAME:CEST
END:DAYLIGHT
END:VTIMEZONE
END:VCALENDAR