BEGIN:VCALENDAR
VERSION:2.0
PRODID:-//wp-events-plugin.com//7.1.7//EN
TZID:Europe/Paris
X-WR-TIMEZONE:Europe/Paris
BEGIN:VEVENT
UID:0-451@lecannetdesmaures.com
DTSTART;TZID=Europe/Paris;VALUE=DATE:20251115
DTEND;TZID=Europe/Paris;VALUE=DATE:20251117
DTSTAMP:20251113T105402Z
URL:https://www.lecannetdesmaures.com/evenements/forum-sante-mentale/
SUMMARY:Forum autour de la Santé Mentale
DESCRIPTION:Samedi 15 et dimanche 16 novembre 2025\, à la Salle du RECOUX 
 : deux jours pour mieux comprendre et expérimenter la relation à soi et 
 aux autres. En partenariat avec l'association "Tous en Scène".\nProgramme
  : \nSamedi 15 -\n14h : Conférence "Comment notre histoire façonne nos 
 émotions et nos comportements ?"16h à 18h30 : Ateliers\n20h30 - Spectacl
 e avec bord plateau "La chambre 122" suivi d'un débat\n22h "Brissons les 
 tabous"\, discussions autour des thèmes abordés par le spectacle\nDimanc
 he 16 -\n10h : Café créatif11h30 Atelier créatif14h30 Spectacle enfants
  "Conte dansé" à partir de 4 ans15h Ateliers familles\nInfos et réserva
 tions :\nTél : 06 58 47 06 25 - club.tousenscene@gmail.com
ATTACH;FMTTYPE=image/jpeg:https://www.lecannetdesmaures.com/app/uploads/20
 25/10/woman-2609115_1280.jpg
CATEGORIES:Agenda
END:VEVENT
BEGIN:VTIMEZONE
TZID:Europe/Paris
X-LIC-LOCATION:Europe/Paris
BEGIN:STANDARD
DTSTART:20251026T020000
TZOFFSETFROM:+0200
TZOFFSETTO:+0100
TZNAME:CET
END:STANDARD
END:VTIMEZONE
END:VCALENDAR