BEGIN:VCALENDAR
VERSION:2.0
PRODID:-//wp-events-plugin.com//7.1.7//EN
TZID:Europe/Paris
X-WR-TIMEZONE:Europe/Paris
BEGIN:VEVENT
UID:0-420@lecannetdesmaures.com
DTSTART;TZID=Europe/Paris:20251009T094500
DTEND;TZID=Europe/Paris:20251030T111500
DTSTAMP:20250903T120307Z
URL:https://www.lecannetdesmaures.com/evenements/gym-douce/
SUMMARY:Ateliers Bien vieillir - Gym douce
DESCRIPTION:Toujours plus engagée pour le bien-être de ses habitants\, la
  Ville réédite le programme “Bien Vieillir”\, avec des ateliers déd
 iés aux seniors\, alliant prévention\, convivialité et autonomie. Une b
 elle illustration de la politique sociale dynamique de la commune\, souten
 ue par&nbsp\;l’ASEPT PACA.\nCycle d’ateliers pour entretenir sa forme 
 avec des conseils pour pratiquer une activité physique quotidienne chez s
 oi.\n4 séances d’une durée d’1h30\, à partir du 9 octobre 2025.\nRe
 nseignements :\nInfos et inscriptions : 04 94 50 10 09 ou 04 94 50 08 21\
 nccas@lecannetdesmaures.com
ATTACH;FMTTYPE=image/jpeg:https://www.lecannetdesmaures.com/app/uploads/20
 25/08/2025_09_ccas_atelier-gym_affiche-a4_v01.jpg
CATEGORIES:Agenda
END:VEVENT
BEGIN:VTIMEZONE
TZID:Europe/Paris
X-LIC-LOCATION:Europe/Paris
BEGIN:DAYLIGHT
DTSTART:20250330T030000
TZOFFSETFROM:+0100
TZOFFSETTO:+0200
TZNAME:CEST
END:DAYLIGHT
BEGIN:STANDARD
DTSTART:20251026T020000
TZOFFSETFROM:+0200
TZOFFSETTO:+0100
TZNAME:CET
END:STANDARD
END:VTIMEZONE
END:VCALENDAR