BEGIN:VCALENDAR
VERSION:2.0
PRODID:-//wp-events-plugin.com//7.1.7//EN
TZID:Europe/Paris
X-WR-TIMEZONE:Europe/Paris
BEGIN:VEVENT
UID:0-432@lecannetdesmaures.com
DTSTART;TZID=Europe/Paris;VALUE=DATE:20251009
DTEND;TZID=Europe/Paris;VALUE=DATE:20251010
DTSTAMP:20250915T131455Z
URL:https://www.lecannetdesmaures.com/evenements/gynecobus/
SUMMARY:Gynécobus
DESCRIPTION:Le Gynécobus fera étape au Cannet des Maures le jeudi 9 octob
 re 2025 de 14h à 17h sur la place de la Libération en centre-ville.\nSon
  but est de proposer gratuitement le dépistage et la prévention des canc
 ers gynécologiques mais aussi de faire le point sur la contraception et l
 es pathologies gynécologiques aux femmes cannetoises.
ATTACH;FMTTYPE=image/jpeg:https://www.lecannetdesmaures.com/app/uploads/20
 25/09/GYNECOBUS.png
CATEGORIES:Agenda,Solidarité
END:VEVENT
BEGIN:VTIMEZONE
TZID:Europe/Paris
X-LIC-LOCATION:Europe/Paris
BEGIN:DAYLIGHT
DTSTART:20250330T030000
TZOFFSETFROM:+0100
TZOFFSETTO:+0200
TZNAME:CEST
END:DAYLIGHT
END:VTIMEZONE
END:VCALENDAR