BEGIN:VCALENDAR
VERSION:2.0
PRODID:-//wp-events-plugin.com//7.1.7//EN
TZID:Europe/Paris
X-WR-TIMEZONE:Europe/Paris
BEGIN:VEVENT
UID:0-424@lecannetdesmaures.com
DTSTART;TZID=Europe/Paris:20250926T100000
DTEND;TZID=Europe/Paris:20250926T170000
DTSTAMP:20250904T085612Z
URL:https://www.lecannetdesmaures.com/evenements/journee-ifremer/
SUMMARY:Journée animée avec IFREMER
DESCRIPTION:Animée par Claudiane DE CORBIAC et Olivia GÉRIGNY.\nL'Institu
 t français de recherche pour l'exploitation de la mer (Ifremer) pose ses 
 voiels au petit foyer de la commune pour la journée. À leurs côtés\, i
 nitiez-vous à la pollution plastique au sein de la Méditerranée.\nRense
 ignements :\nTél. : 04 94 50 35 20
ATTACH;FMTTYPE=image/jpeg:https://www.lecannetdesmaures.com/app/uploads/20
 25/09/09.26-Journee-IFREMER-scaled.jpg
CATEGORIES:Agenda
END:VEVENT
BEGIN:VTIMEZONE
TZID:Europe/Paris
X-LIC-LOCATION:Europe/Paris
BEGIN:DAYLIGHT
DTSTART:20250330T030000
TZOFFSETFROM:+0100
TZOFFSETTO:+0200
TZNAME:CEST
END:DAYLIGHT
END:VTIMEZONE
END:VCALENDAR