BEGIN:VCALENDAR
VERSION:2.0
PRODID:-//wp-events-plugin.com//7.1.7//EN
TZID:Europe/Paris
X-WR-TIMEZONE:Europe/Paris
BEGIN:VEVENT
UID:0-428@lecannetdesmaures.com
DTSTART;TZID=Europe/Paris;VALUE=DATE:20250920
DTEND;TZID=Europe/Paris;VALUE=DATE:20250922
DTSTAMP:20250912T093753Z
URL:https://www.lecannetdesmaures.com/evenements/journees-europeennes-patr
 imoine/
SUMMARY:Journées européennes du patrimoine
DESCRIPTION:Venez profiter de concerts\, visites commentées et de l'ouvert
 ure de l'église Saint-Michel le week-end des 20 et 21 septembre 2025 à l
 'occasion des Journées européennes du patrimoine.\nRenseignements et ins
 cription :\nTél. : 04 94 50 10 09
ATTACH;FMTTYPE=image/jpeg:https://www.lecannetdesmaures.com/app/uploads/20
 25/09/JPatrimoine-2025-CDM-Test-scaled.jpg
CATEGORIES:Agenda,Culture
END:VEVENT
BEGIN:VTIMEZONE
TZID:Europe/Paris
X-LIC-LOCATION:Europe/Paris
BEGIN:DAYLIGHT
DTSTART:20250330T030000
TZOFFSETFROM:+0100
TZOFFSETTO:+0200
TZNAME:CEST
END:DAYLIGHT
END:VTIMEZONE
END:VCALENDAR