BEGIN:VCALENDAR
VERSION:2.0
PRODID:-//wp-events-plugin.com//7.1.7//EN
TZID:Europe/Paris
X-WR-TIMEZONE:Europe/Paris
BEGIN:VEVENT
UID:0-426@lecannetdesmaures.com
DTSTART;TZID=Europe/Paris:20250926T200000
DTEND;TZID=Europe/Paris:20250926T223000
DTSTAMP:20250910T154709Z
URL:https://www.lecannetdesmaures.com/evenements/la-tete-dans-les-etoiles-
 2/
SUMMARY:La tête dans les étoiles\, sortie nocturne d’observation du cie
 l
DESCRIPTION:Comme l’ont fait tous les hommes et femmes à travers les âg
 es\, levez les yeux vers le ciel à l’occasion de cette soirée et venez
  découvrir\, à l’œil nu puis au télescope\, les splendeurs du ciel d
 ’été ainsi que les étoiles filantes de l’essaim des Perséides. Cet
 te soirée commencera par une balade céleste commentée qui sera l’occa
 sion de découvrir à l’œil nu les principales constellations et certai
 ns astres observables à cette période de l’année\, mais également de
  présenter les grands principes régissant la vie et la mort des étoiles
 . Enfin\, l’observation à l’aide d’un télescope à vision amplifi
 ée permettra de s’émerveiller devant la beauté de quelques-uns des ob
 jets célestes les plus spectaculaires de ce ciel d’été. \nHoraires 
 : 20h – 22h30\nInscription obligatoire\nRenseignements et inscription :\
 nTél. : 04 94 50 06 04\n&nbsp\;environnement@lecannetdesmaures.com
ATTACH;FMTTYPE=image/jpeg:https://www.lecannetdesmaures.com/app/uploads/20
 25/09/09.26-La-tete-dans-les-etoiles.jpg
CATEGORIES:Agenda
END:VEVENT
BEGIN:VTIMEZONE
TZID:Europe/Paris
X-LIC-LOCATION:Europe/Paris
BEGIN:DAYLIGHT
DTSTART:20250330T030000
TZOFFSETFROM:+0100
TZOFFSETTO:+0200
TZNAME:CEST
END:DAYLIGHT
END:VTIMEZONE
END:VCALENDAR