BEGIN:VCALENDAR
VERSION:2.0
PRODID:-//wp-events-plugin.com//7.1.7//EN
TZID:Europe/Paris
X-WR-TIMEZONE:Europe/Paris
BEGIN:VEVENT
UID:0-397@lecannetdesmaures.com
DTSTART;TZID=Europe/Paris:20250828T203000
DTEND;TZID=Europe/Paris:20250828T230000
DTSTAMP:20250721T084334Z
URL:https://www.lecannetdesmaures.com/evenements/la-tete-dans-les-etoiles/
SUMMARY:La tête dans les étoiles
DESCRIPTION:Jeudi 28 août\, 20h30 – 23h : La tête dans les étoiles\, s
 ortie nocturne d'observation du ciel.\nLevez les yeux vers le ciel à l’
 occasion de cette soirée et venez découvrir\, à l’oeil nu puis au té
 lescope\, les splendeurs du ciel d’été ainsi que les étoiles filantes
 .\nTout public. Enfants à partir de 9 ans.\nRenseignements et réservatio
 ns :\n04 94 50 06 04\nenvironnement@lecannetdesmaures.com
ATTACH;FMTTYPE=image/jpeg:https://www.lecannetdesmaures.com/app/uploads/20
 25/07/08.28-La-tete-dans-les-etoiles.jpg
CATEGORIES:Agenda
END:VEVENT
BEGIN:VTIMEZONE
TZID:Europe/Paris
X-LIC-LOCATION:Europe/Paris
BEGIN:DAYLIGHT
DTSTART:20250330T030000
TZOFFSETFROM:+0100
TZOFFSETTO:+0200
TZNAME:CEST
END:DAYLIGHT
END:VTIMEZONE
END:VCALENDAR