BEGIN:VCALENDAR
VERSION:2.0
PRODID:-//wp-events-plugin.com//7.1.7//EN
TZID:Europe/Paris
X-WR-TIMEZONE:Europe/Paris
BEGIN:VEVENT
UID:0-443@lecannetdesmaures.com
DTSTART;TZID=Europe/Paris:20251023T143000
DTEND;TZID=Europe/Paris:20251023T170000
DTSTAMP:20251020T124541Z
URL:https://www.lecannetdesmaures.com/evenements/ludotheque-4/
SUMMARY:Ludothèque
DESCRIPTION:Jeudi 23 octobre à 14h30 avec YAKAJOUER.\nEntrée libre et gra
 tuite.\nRenseignements : 04 94 50 35 20
ATTACH;FMTTYPE=image/jpeg:https://www.lecannetdesmaures.com/app/uploads/20
 25/10/561985472_818247730564614_327378848333386707_n.jpg
CATEGORIES:Agenda
END:VEVENT
BEGIN:VTIMEZONE
TZID:Europe/Paris
X-LIC-LOCATION:Europe/Paris
BEGIN:DAYLIGHT
DTSTART:20250330T030000
TZOFFSETFROM:+0100
TZOFFSETTO:+0200
TZNAME:CEST
END:DAYLIGHT
END:VTIMEZONE
END:VCALENDAR