BEGIN:VCALENDAR
VERSION:2.0
PRODID:-//wp-events-plugin.com//7.1.7//EN
TZID:Europe/Paris
X-WR-TIMEZONE:Europe/Paris
BEGIN:VEVENT
UID:0-431@lecannetdesmaures.com
DTSTART;TZID=Europe/Paris;VALUE=DATE:20251003
DTEND;TZID=Europe/Paris;VALUE=DATE:20251026
DTSTAMP:20250930T153016Z
URL:https://www.lecannetdesmaures.com/evenements/octobre-rose/
SUMMARY:Octobre rose
DESCRIPTION:Chaque année\, Octobre Rose mobilise des millions de personnes
  à travers le monde pour sensibiliser au dépistage du cancer du sein et 
 soutenir la recherche. Cette année \, du 3 au 25 octobre 2025\, la Ville 
 se pare de rose grâce à l’engagement conjoint de Sanavie et Re’Créa
 tions 83\, appuyées par le Centre Ressource et de nombreux partenaires lo
 caux.\nAu programme : marche solidaire\, conférences de prévention\, ate
 liers bien-être\, vide-greniers\, salon artistique\, réflexologie\, mass
 ages\, et même des moments festifs autour de la danse\, du sport ou de la
  gastronomie. Sans oublier la grande tombola solidaire\, dont le tirage au
 ra lieu le 25 octobre : une belle occasion de contribuer aux actions du Ce
 ntre Ressource Aix et des Rubans Roses.
ATTACH;FMTTYPE=image/jpeg:https://www.lecannetdesmaures.com/app/uploads/20
 25/09/Affiche-general-octobre-rose-V100925-scaled.jpg
CATEGORIES:Agenda,Solidarité
END:VEVENT
BEGIN:VTIMEZONE
TZID:Europe/Paris
X-LIC-LOCATION:Europe/Paris
BEGIN:DAYLIGHT
DTSTART:20250330T030000
TZOFFSETFROM:+0100
TZOFFSETTO:+0200
TZNAME:CEST
END:DAYLIGHT
END:VTIMEZONE
END:VCALENDAR