BEGIN:VCALENDAR
VERSION:2.0
PRODID:-//wp-events-plugin.com//7.1.7//EN
TZID:Europe/Paris
X-WR-TIMEZONE:Europe/Paris
BEGIN:VEVENT
UID:0-440@lecannetdesmaures.com
DTSTART;TZID=Europe/Paris:20251018T110000
DTEND;TZID=Europe/Paris:20251102T183000
DTSTAMP:20251008T130432Z
URL:https://www.lecannetdesmaures.com/evenements/paradis-des-enfants/
SUMMARY:Le Paradis Des Enfants
DESCRIPTION:Parc d'attractions  organisé par le CACM\, du 18 octobre au 2 
 novembre.\nDe 11h à 18h30 - enfants jusqu'à 12 ans.\nDurée illimitée\,
  accompagnateurs gratuits.\nTarif 10 euros.
ATTACH;FMTTYPE=image/jpeg:https://www.lecannetdesmaures.com/app/uploads/20
 25/10/Le-Paradis-des-enfants-DAMEZ-V01.jpg
CATEGORIES:Agenda
END:VEVENT
BEGIN:VTIMEZONE
TZID:Europe/Paris
X-LIC-LOCATION:Europe/Paris
BEGIN:DAYLIGHT
DTSTART:20250330T030000
TZOFFSETFROM:+0100
TZOFFSETTO:+0200
TZNAME:CEST
END:DAYLIGHT
BEGIN:STANDARD
DTSTART:20251026T020000
TZOFFSETFROM:+0200
TZOFFSETTO:+0100
TZNAME:CET
END:STANDARD
END:VTIMEZONE
END:VCALENDAR