BEGIN:VCALENDAR
VERSION:2.0
PRODID:-//wp-events-plugin.com//7.1.7//EN
TZID:Europe/Paris
X-WR-TIMEZONE:Europe/Paris
BEGIN:VEVENT
UID:0-416@lecannetdesmaures.com
DTSTART;TZID=Europe/Paris:20251004T143000
DTEND;TZID=Europe/Paris:20251004T153000
DTSTAMP:20250815T112216Z
URL:https://www.lecannetdesmaures.com/evenements/pause-philo-3/
SUMMARY:PAUSE PHILO
DESCRIPTION:Avec Claire Lucq\nEntrée gratuite sur inscription – A partir
  de 7 ans\nRenseignements :\nTél. : 04 94 50 35 20
ATTACH;FMTTYPE=image/jpeg:https://www.lecannetdesmaures.com/app/uploads/20
 25/08/pause-philo-affiche-scaled-1.jpg
CATEGORIES:Agenda
END:VEVENT
BEGIN:VTIMEZONE
TZID:Europe/Paris
X-LIC-LOCATION:Europe/Paris
BEGIN:DAYLIGHT
DTSTART:20250330T030000
TZOFFSETFROM:+0100
TZOFFSETTO:+0200
TZNAME:CEST
END:DAYLIGHT
END:VTIMEZONE
END:VCALENDAR