BEGIN:VCALENDAR
VERSION:2.0
PRODID:-//wp-events-plugin.com//7.1.7//EN
TZID:Europe/Paris
X-WR-TIMEZONE:Europe/Paris
BEGIN:VEVENT
UID:0-430@lecannetdesmaures.com
DTSTART;TZID=Europe/Paris:20250921T100000
DTEND;TZID=Europe/Paris:20250921T170000
DTSTAMP:20250915T100139Z
URL:https://www.lecannetdesmaures.com/evenements/peintres-dans-la-rue/
SUMMARY:Peintres dans la rue
DESCRIPTION:Le dimanche 21 septembre 2025 de 10h à 17h sur la place des Mi
 cocouliers au Vieux-Cannet\, venez peindre le Vieux-Cannet avec votre rega
 rd d'artiste.\nAnimation proposée dans le cadre des Journées européenne
 s du Patrimoine.\nRenseignements et inscriptions :\nTél. : 04 94 50 10 09
 \nc.diot@lecannetdesmaures.com
ATTACH;FMTTYPE=image/jpeg:https://www.lecannetdesmaures.com/app/uploads/20
 25/09/2025-09-journees-patrimoine-peintres-dans-la-rue.png
CATEGORIES:Agenda,Culture
END:VEVENT
BEGIN:VTIMEZONE
TZID:Europe/Paris
X-LIC-LOCATION:Europe/Paris
BEGIN:DAYLIGHT
DTSTART:20250330T030000
TZOFFSETFROM:+0100
TZOFFSETTO:+0200
TZNAME:CEST
END:DAYLIGHT
END:VTIMEZONE
END:VCALENDAR