BEGIN:VCALENDAR
VERSION:2.0
PRODID:-//wp-events-plugin.com//7.1.7//EN
TZID:Europe/Paris
X-WR-TIMEZONE:Europe/Paris
BEGIN:VEVENT
UID:0-375@lecannetdesmaures.com
DTSTART;TZID=Europe/Paris:20250617T180000
DTEND;TZID=Europe/Paris:20250617T193000
DTSTAMP:20250605T124126Z
URL:https://www.lecannetdesmaures.com/evenements/presentation-theatre/
SUMMARY:Présentation de la nouvelle saison de Théâtres en Dracénie
DESCRIPTION:Mardi 17 juin à 18h\, Théâtres en Dracénie vous présente s
 a saison 2025-2026. \nAu programme : théâtre\, danse\, cirque\, musique\
 , humour\, expositions… (Entrée libre et gratuite)\nRenseignements :\n0
 4 94 50 35 20\nEntrée libre et gratuite.
ATTACH;FMTTYPE=image/jpeg:https://www.lecannetdesmaures.com/app/uploads/20
 25/06/stage-233087_1280.jpg
CATEGORIES:Agenda
END:VEVENT
BEGIN:VTIMEZONE
TZID:Europe/Paris
X-LIC-LOCATION:Europe/Paris
BEGIN:DAYLIGHT
DTSTART:20250330T030000
TZOFFSETFROM:+0100
TZOFFSETTO:+0200
TZNAME:CEST
END:DAYLIGHT
END:VTIMEZONE
END:VCALENDAR