BEGIN:VCALENDAR
VERSION:2.0
PRODID:-//wp-events-plugin.com//7.1.7//EN
TZID:Europe/Paris
X-WR-TIMEZONE:Europe/Paris
BEGIN:VEVENT
UID:0-403@lecannetdesmaures.com
DTSTART;TZID=Europe/Paris:20250829T183000
DTEND;TZID=Europe/Paris:20250829T200000
DTSTAMP:20250815T095013Z
URL:https://www.lecannetdesmaures.com/evenements/projection-pelagos/
SUMMARY:PROJECTION : PELAGOS
DESCRIPTION:Vendredi 29 août à 18h30 à la Médiathèque Marcel-Migozzi\,
  projection en présence de Frédéric Larrey\, producteur et co-réalisat
 eur.\nLe Pelagos\, l’écosystème marin du grand large\, est sans contes
 te le plus vaste de notre planète et certainement l’un des moins connus
 . Cette immensité bleue est l’habitat privilégié d’espèces marines
  chargées de mystères. Alors qu’elle fait face à de nombreuses menace
 s anthropiques depuis des décennies\, la Méditerranée\, antique carrefo
 ur des civilisations\, semble être une des mers les plus hostiles à cett
 e vie pélagique. Pourtant\, elle accueille toujours en son large une faun
 e d’une richesse insoupçonnée\, qui parvient à survivre\, et parfois 
 même à s’épanouir malgré toutes les difficultés. Quelle est cette m
 agie qui permet aux baleines\, requins\, globicéphales et tortues d’exi
 ster au coeur de la tempête humaine qui souffle sans fin sur la Méditerr
 anée ?\nEntrée libre et gratuite\nRenseignements :\nTél. : 04 94 50 35 
 20
ATTACH;FMTTYPE=image/jpeg:https://www.lecannetdesmaures.com/app/uploads/20
 25/08/08.29-Projection-Pelagos-scaled-1.jpg
CATEGORIES:Agenda
END:VEVENT
BEGIN:VTIMEZONE
TZID:Europe/Paris
X-LIC-LOCATION:Europe/Paris
BEGIN:DAYLIGHT
DTSTART:20250330T030000
TZOFFSETFROM:+0100
TZOFFSETTO:+0200
TZNAME:CEST
END:DAYLIGHT
END:VTIMEZONE
END:VCALENDAR