BEGIN:VCALENDAR
VERSION:2.0
PRODID:-//wp-events-plugin.com//7.1.7//EN
TZID:Europe/Paris
X-WR-TIMEZONE:Europe/Paris
BEGIN:VEVENT
UID:0-411@lecannetdesmaures.com
DTSTART;TZID=Europe/Paris:20250917T100000
DTEND;TZID=Europe/Paris:20250917T110000
DTSTAMP:20250815T104837Z
URL:https://www.lecannetdesmaures.com/evenements/racontines/
SUMMARY:RACONTINES
DESCRIPTION:A partir de 3 ans – Entrée libre\nLe mercredi 17 septembre 
 à 10h\, laissez-vous emporter au pays de l’imaginaire pour leur donner 
 le goût des livres.\nRenseignements :\nTél. : 04 94 50 35 20
ATTACH;FMTTYPE=image/jpeg:https://www.lecannetdesmaures.com/app/uploads/20
 25/08/logo-oceans-25.png
CATEGORIES:Agenda
END:VEVENT
BEGIN:VTIMEZONE
TZID:Europe/Paris
X-LIC-LOCATION:Europe/Paris
BEGIN:DAYLIGHT
DTSTART:20250330T030000
TZOFFSETFROM:+0100
TZOFFSETTO:+0200
TZNAME:CEST
END:DAYLIGHT
END:VTIMEZONE
END:VCALENDAR