BEGIN:VCALENDAR
VERSION:2.0
PRODID:-//wp-events-plugin.com//7.1.7//EN
TZID:Europe/Paris
X-WR-TIMEZONE:Europe/Paris
BEGIN:VEVENT
UID:0-370@lecannetdesmaures.com
DTSTART;TZID=Europe/Paris:20250605T090000
DTEND;TZID=Europe/Paris:20250605T170000
DTSTAMP:20250514T091101Z
URL:https://www.lecannetdesmaures.com/evenements/ramassage-dechets/
SUMMARY:Ramassage des déchets au Vallon du RECOUX
DESCRIPTION:À l’occasion de la Journée Mondiale de l’Environnement\, 
 la Ville vous invite à participer à un grand ramassage citoyen des déch
 ets au vallon du RECOUX\, jeudi 5 juin 2025 à partir de 9h.\nCe site natu
 rel\, niché au cœur de nos forêts communales\, est malheureusement la c
 ible de nombreux dépôts sauvages. Grâce à vous\, il pourra retrouver t
 oute sa beauté naturelle.\n Mobilisons-nous ensemble pour préserver notr
 e environnement et redonner à ce lieu tout son éclat ! Alors\, à vos ga
 nts !\n Chaque geste compte\, et votre aide sera précieuse face à l’am
 pleur des déchets.\n Petit déjeuner offert aux participants pour bien d
 émarrer cette matinée solidaire.\nInscription obligatoire.\nRenseignemen
 ts et inscriptions :\n 04 94 50 06 04 ou par mail : environnement@lecannet
 desmaures.com
ATTACH;FMTTYPE=image/jpeg:https://www.lecannetdesmaures.com/app/uploads/20
 25/05/05.06-Ramassage-vallon-du-Recoux-V2.jpg
CATEGORIES:Agenda
END:VEVENT
BEGIN:VTIMEZONE
TZID:Europe/Paris
X-LIC-LOCATION:Europe/Paris
BEGIN:DAYLIGHT
DTSTART:20250330T030000
TZOFFSETFROM:+0100
TZOFFSETTO:+0200
TZNAME:CEST
END:DAYLIGHT
END:VTIMEZONE
END:VCALENDAR